BEGIN:VCALENDAR
VERSION:2.0
PRODID:-//Tennisclub 1980 Dorheim e.V. - ECPv6.15.20//NONSGML v1.0//EN
CALSCALE:GREGORIAN
METHOD:PUBLISH
X-WR-CALNAME:Tennisclub 1980 Dorheim e.V.
X-ORIGINAL-URL:https://tc-dorheim.de
X-WR-CALDESC:Veranstaltungen für Tennisclub 1980 Dorheim e.V.
REFRESH-INTERVAL;VALUE=DURATION:PT1H
X-Robots-Tag:noindex
X-PUBLISHED-TTL:PT1H
BEGIN:VTIMEZONE
TZID:Europe/Berlin
BEGIN:DAYLIGHT
TZOFFSETFROM:+0100
TZOFFSETTO:+0200
TZNAME:CEST
DTSTART:20250330T010000
END:DAYLIGHT
BEGIN:STANDARD
TZOFFSETFROM:+0200
TZOFFSETTO:+0100
TZNAME:CET
DTSTART:20251026T010000
END:STANDARD
BEGIN:DAYLIGHT
TZOFFSETFROM:+0100
TZOFFSETTO:+0200
TZNAME:CEST
DTSTART:20260329T010000
END:DAYLIGHT
BEGIN:STANDARD
TZOFFSETFROM:+0200
TZOFFSETTO:+0100
TZNAME:CET
DTSTART:20261025T010000
END:STANDARD
BEGIN:DAYLIGHT
TZOFFSETFROM:+0100
TZOFFSETTO:+0200
TZNAME:CEST
DTSTART:20270328T010000
END:DAYLIGHT
BEGIN:STANDARD
TZOFFSETFROM:+0200
TZOFFSETTO:+0100
TZNAME:CET
DTSTART:20271031T010000
END:STANDARD
END:VTIMEZONE
BEGIN:VEVENT
DTSTART;TZID=Europe/Berlin:20260925T140000
DTEND;TZID=Europe/Berlin:20260925T180000
DTSTAMP:20260423T011246
CREATED:20251023T060540Z
LAST-MODIFIED:20251023T060540Z
UID:3946-1790344800-1790359200@tc-dorheim.de
SUMMARY:Vorbereitung Hallenaufbau (vorläufig)
DESCRIPTION:
URL:https://tc-dorheim.de/termin/vorbereitung-hallenaufbau-vorlaeufig/
CATEGORIES:TCD-Intern
ORGANIZER;CN="Tennisclub Dorheim":MAILTO:info@tc-dorheim.de
END:VEVENT
BEGIN:VEVENT
DTSTART;TZID=Europe/Berlin:20260926T100000
DTEND;TZID=Europe/Berlin:20260926T180000
DTSTAMP:20260423T011246
CREATED:20251023T060554Z
LAST-MODIFIED:20251023T060554Z
UID:3947-1790416800-1790445600@tc-dorheim.de
SUMMARY:Hallenaufbau (vorläufig)
DESCRIPTION:
URL:https://tc-dorheim.de/termin/hallenaufbau-vorlaeufig/
CATEGORIES:TCD-Intern
ORGANIZER;CN="Tennisclub Dorheim":MAILTO:info@tc-dorheim.de
END:VEVENT
END:VCALENDAR